BEGIN:VCALENDAR
VERSION:2.0
PRODID:-//Youth Music Charity, London | Kinetika Bloco - ECPv6.15.20//NONSGML v1.0//EN
CALSCALE:GREGORIAN
METHOD:PUBLISH
X-WR-CALNAME:Youth Music Charity, London | Kinetika Bloco
X-ORIGINAL-URL:https://kinetikabloco.co.uk
X-WR-CALDESC:Events for Youth Music Charity, London | Kinetika Bloco
REFRESH-INTERVAL;VALUE=DURATION:PT1H
X-Robots-Tag:noindex
X-PUBLISHED-TTL:PT1H
BEGIN:VTIMEZONE
TZID:UTC
BEGIN:STANDARD
TZOFFSETFROM:+0000
TZOFFSETTO:+0000
TZNAME:UTC
DTSTART:20240101T000000
END:STANDARD
END:VTIMEZONE
BEGIN:VEVENT
DTSTART;TZID=UTC:20250518T110000
DTEND;TZID=UTC:20250518T153000
DTSTAMP:20260421T061044
CREATED:20240220T131746Z
LAST-MODIFIED:20250409T091148Z
UID:10000008-1747566000-1747582200@kinetikabloco.co.uk
SUMMARY:Urban Village Fete
DESCRIPTION:Kinetika Bloco will be returning to Urban Village Fete on the beautiful Greenwich Peninsular for it’s 10th Anniversary. We’ll be doing performances and workshops through the day. \nDrum/Dance workshop: 11:15am – 11:45am \nPerformance: 11:45am \nDrum/Dance workshop: 12:45pm – 1:15pm \nPerformance: 1:15pm \nDrum/Dance workshop: 2:20pm – 2:50pm \nPerformance: 2:50pm \nCome down and join us for a workshop or watch us parade through the site.
URL:https://kinetikabloco.co.uk/event/urban-village-fete/
LOCATION:Greenwich Peninsular\, Greenwich Peninsular\, London\, SE10 0QN\, United Kingdom
ATTACH;FMTTYPE=image/jpeg:https://kinetikabloco.co.uk/wp-content/uploads/2024/01/UF23S-1164.jpg-Kinetika-scaled.jpg
END:VEVENT
END:VCALENDAR