BEGIN:VCALENDAR
VERSION:2.0
PRODID:-//Youth Music Charity, London | Kinetika Bloco - ECPv6.15.20//NONSGML v1.0//EN
CALSCALE:GREGORIAN
METHOD:PUBLISH
X-WR-CALNAME:Youth Music Charity, London | Kinetika Bloco
X-ORIGINAL-URL:https://kinetikabloco.co.uk
X-WR-CALDESC:Events for Youth Music Charity, London | Kinetika Bloco
REFRESH-INTERVAL;VALUE=DURATION:PT1H
X-Robots-Tag:noindex
X-PUBLISHED-TTL:PT1H
BEGIN:VTIMEZONE
TZID:UTC
BEGIN:STANDARD
TZOFFSETFROM:+0000
TZOFFSETTO:+0000
TZNAME:UTC
DTSTART:20240101T000000
END:STANDARD
END:VTIMEZONE
BEGIN:VEVENT
DTSTART;VALUE=DATE:20250817
DTEND;VALUE=DATE:20250818
DTSTAMP:20260421T004654
CREATED:20250205T140157Z
LAST-MODIFIED:20250731T094024Z
UID:10000025-1755388800-1755475199@kinetikabloco.co.uk
SUMMARY:We Out Here Festival
DESCRIPTION:Kinetika Bloco will be playing for the first time at We Our Here Festival which we are very excited about. If you’re heading to the festival come and join us for some family dance and drumming workshops and a parade. \nWorkshops at 2pm \nParade at 4pm
URL:https://kinetikabloco.co.uk/event/we-out-here/
LOCATION:We Out Here\, Wimborne St Giles House\, Dorset\, BH21 5NA\, United Kingdom
ATTACH;FMTTYPE=image/jpeg:https://kinetikabloco.co.uk/wp-content/uploads/2025/02/DSC_6304-smaller-scaled.jpg
END:VEVENT
END:VCALENDAR