BEGIN:VCALENDAR
VERSION:2.0
PRODID:-//Youth Music Charity, London | Kinetika Bloco - ECPv6.15.20//NONSGML v1.0//EN
CALSCALE:GREGORIAN
METHOD:PUBLISH
X-WR-CALNAME:Youth Music Charity, London | Kinetika Bloco
X-ORIGINAL-URL:https://kinetikabloco.co.uk
X-WR-CALDESC:Events for Youth Music Charity, London | Kinetika Bloco
REFRESH-INTERVAL;VALUE=DURATION:PT1H
X-Robots-Tag:noindex
X-PUBLISHED-TTL:PT1H
BEGIN:VTIMEZONE
TZID:UTC
BEGIN:STANDARD
TZOFFSETFROM:+0000
TZOFFSETTO:+0000
TZNAME:UTC
DTSTART:20240101T000000
END:STANDARD
END:VTIMEZONE
BEGIN:VEVENT
DTSTART;TZID=UTC:20250518T110000
DTEND;TZID=UTC:20250518T153000
DTSTAMP:20260421T061208
CREATED:20240220T131746Z
LAST-MODIFIED:20250409T091148Z
UID:10000008-1747566000-1747582200@kinetikabloco.co.uk
SUMMARY:Urban Village Fete
DESCRIPTION:Kinetika Bloco will be returning to Urban Village Fete on the beautiful Greenwich Peninsular for it’s 10th Anniversary. We’ll be doing performances and workshops through the day. \nDrum/Dance workshop: 11:15am – 11:45am \nPerformance: 11:45am \nDrum/Dance workshop: 12:45pm – 1:15pm \nPerformance: 1:15pm \nDrum/Dance workshop: 2:20pm – 2:50pm \nPerformance: 2:50pm \nCome down and join us for a workshop or watch us parade through the site.
URL:https://kinetikabloco.co.uk/event/urban-village-fete/
LOCATION:Greenwich Peninsular\, Greenwich Peninsular\, London\, SE10 0QN\, United Kingdom
ATTACH;FMTTYPE=image/jpeg:https://kinetikabloco.co.uk/wp-content/uploads/2024/01/UF23S-1164.jpg-Kinetika-scaled.jpg
END:VEVENT
BEGIN:VEVENT
DTSTART;TZID=UTC:20250530T133000
DTEND;TZID=UTC:20250530T173000
DTSTAMP:20260421T061208
CREATED:20250515T131601Z
LAST-MODIFIED:20250515T131601Z
UID:10000028-1748611800-1748626200@kinetikabloco.co.uk
SUMMARY:Out There Arts International Festival
DESCRIPTION:Kinetika Bloco are performing for the first time in Norfolk at Out There Arts International Festival. We will be doing a parade leaving Drill Hall at 4pm and working our way down to the beach. \nWe will also be doing a drumming workshop for the public in the Beach of Dreams area 1.30-2.30pm. Come down and join us.
URL:https://kinetikabloco.co.uk/event/out-there-arts-international-festival/
LOCATION:Out There Arts\, Out There Arts\, The Drill House\, York Rd\,\, Great Yarmouth\, Norfolk\, NR30 2LZ\, United Kingdom
ATTACH;FMTTYPE=image/jpeg:https://kinetikabloco.co.uk/wp-content/uploads/2025/05/357A1265-scaled.jpg
END:VEVENT
BEGIN:VEVENT
DTSTART;TZID=UTC:20250621T143000
DTEND;TZID=UTC:20250621T160000
DTSTAMP:20260421T061208
CREATED:20250205T141302Z
LAST-MODIFIED:20250205T141302Z
UID:10000026-1750516200-1750521600@kinetikabloco.co.uk
SUMMARY:Art in the Park
DESCRIPTION:Kinetika Bloco will be returning to Art in the Park\, a favourite of ours\, in Milton Keynes. Come and join us for a parade from The Point (Midsummer Blvd\, MK9 3ND) to Campbell Park. The Parade leaves The Point at 2.30pm.
URL:https://kinetikabloco.co.uk/event/art-in-the-park/
LOCATION:Campbell Park\, Campbell Park Events Plateau\, Milton Keynes\, MK9 4AJ\, United Kingdom
ATTACH;FMTTYPE=image/jpeg:https://kinetikabloco.co.uk/wp-content/uploads/2025/02/DSC_5899-scaled.jpeg
END:VEVENT
BEGIN:VEVENT
DTSTART;VALUE=DATE:20250817
DTEND;VALUE=DATE:20250818
DTSTAMP:20260421T061208
CREATED:20250205T140157Z
LAST-MODIFIED:20250731T094024Z
UID:10000025-1755388800-1755475199@kinetikabloco.co.uk
SUMMARY:We Out Here Festival
DESCRIPTION:Kinetika Bloco will be playing for the first time at We Our Here Festival which we are very excited about. If you’re heading to the festival come and join us for some family dance and drumming workshops and a parade. \nWorkshops at 2pm \nParade at 4pm
URL:https://kinetikabloco.co.uk/event/we-out-here/
LOCATION:We Out Here\, Wimborne St Giles House\, Dorset\, BH21 5NA\, United Kingdom
ATTACH;FMTTYPE=image/jpeg:https://kinetikabloco.co.uk/wp-content/uploads/2025/02/DSC_6304-smaller-scaled.jpg
END:VEVENT
BEGIN:VEVENT
DTSTART;TZID=UTC:20251123T190000
DTEND;TZID=UTC:20251123T200000
DTSTAMP:20260421T061208
CREATED:20251112T140228Z
LAST-MODIFIED:20251112T140552Z
UID:10000030-1763924400-1763928000@kinetikabloco.co.uk
SUMMARY:We Are Bloco: 25
DESCRIPTION:We’re so excited to announce that we’ll be performing as part of the London Jazz Festival on Sunday\, 23rd November!Join us for a special 25th Anniversary performance featuring members of the Kinetika Bloco family — past and present. \nOur lineup includes alumni Ruben Fox\, Marlon Hibbert\, Artie Zaitz\, Theon Cross\, Teigan Hastings\, Mark Kavuma\, and Ife Ogunjobi\, as well as our amazing staff team: Kyle McInnis\, Claude Deppa\, Andy Grappy\, Misha Fox\, Sam Agard\, Keiran Pearson\, Andre Johnson\, Wade Austin\, Millie John\, and Leon Hazelwood. \nIn 2025\, Kinetika Bloco proudly celebrates 25 years of transformative work in the community\, empowering young people through music and dance. Over the past quarter-century\, we’ve built a vibrant\, diverse\, and creative collective that continues to shape the next generation of artists and leaders. \nTo honour this milestone\, we’re bringing together alumni and current participants for an unforgettable carnival extravaganza — celebrating the impact and legacy of Bloco\, and highlighting the power of youth organisations\, cultural collaboration\, and community engagement. Join us for a night of dance\, music\, carnival costume\, and special guest appearances from our alumni. \nDoors: 6:45 pmSeating: 600 seats (arrive early to secure yours!)Tickets: FREE \nDonations and merch purchases on the night are welcome — all proceeds support our ongoing work. \nThere will be two other groups performing after us\, so stick around for a full night of music!
URL:https://kinetikabloco.co.uk/event/we-are-bloco-25/
LOCATION:Milton Hall\, Guildhall School of Music and Drama\, London\, EC2Y 9BH\, United Kingdom
ATTACH;FMTTYPE=image/jpeg:https://kinetikabloco.co.uk/wp-content/uploads/2025/11/Kinetika-Bloco-Summer-Showcase-2025-credit-Pete-Woodhead-9-scaled.jpg
END:VEVENT
BEGIN:VEVENT
DTSTART;TZID=UTC:20251211T170000
DTEND;TZID=UTC:20251211T180000
DTSTAMP:20260421T061208
CREATED:20251112T134352Z
LAST-MODIFIED:20251112T134849Z
UID:10000029-1765472400-1765476000@kinetikabloco.co.uk
SUMMARY:Tulse Hill Bloco Christmas Show
DESCRIPTION:Come and join us for the Tulse Hill Bloco end of year Christmas show\, featuring brass\, drums\, and steel pans playing music from Brazil to the Caribbean. There will be snacks and plenty of Christmas vibes.
URL:https://kinetikabloco.co.uk/event/tulse-hill-bloco-christmas-show/
LOCATION:Jubilee Community Hall\, Tulse Hill Estate\, SW2 2LY\, SW2 2LY\, United Kingdom
ATTACH;FMTTYPE=image/jpeg:https://kinetikabloco.co.uk/wp-content/uploads/2023/12/20230724_143252530_iOS.jpg
END:VEVENT
BEGIN:VEVENT
DTSTART;TZID=UTC:20260326T170000
DTEND;TZID=UTC:20260326T180000
DTSTAMP:20260421T061208
CREATED:20250317T145904Z
LAST-MODIFIED:20260121T165144Z
UID:10000027-1774544400-1774548000@kinetikabloco.co.uk
SUMMARY:Tulse Hill Bloco Spring Show
DESCRIPTION:Come and join us for the Tulse Hill Bloco Spring show\, featuring brass\, drums\, and steel pans playing music from Brazil to the Caribbean. There will be snacks and plenty of Easter Egg vibes.
URL:https://kinetikabloco.co.uk/event/tulse-hill-bloco-spring-show/
LOCATION:Jubilee Community Hall\, Tulse Hill Estate\, SW2 2LY\, SW2 2LY\, United Kingdom
ATTACH;FMTTYPE=image/jpeg:https://kinetikabloco.co.uk/wp-content/uploads/2024/06/20230728_112226090_iOS-scaled.jpg
END:VEVENT
BEGIN:VEVENT
DTSTART;TZID=UTC:20260716T170000
DTEND;TZID=UTC:20260716T180000
DTSTAMP:20260421T061208
CREATED:20241111T155007Z
LAST-MODIFIED:20260121T165555Z
UID:10000024-1784221200-1784224800@kinetikabloco.co.uk
SUMMARY:Tulse Hill Bloco Summer Show
DESCRIPTION:Come and join us for the Tulse Hill Bloco end of year Summer show\, featuring brass\, drums\, and steel pans playing music from Brazil to the Caribbean. There will be snacks and plenty of Summer vibes.
URL:https://kinetikabloco.co.uk/event/tulse-hill-bloco-summer-show/
LOCATION:Jubilee Community Hall\, Tulse Hill Estate\, SW2 2LY\, SW2 2LY\, United Kingdom
ATTACH;FMTTYPE=image/jpeg:https://kinetikabloco.co.uk/wp-content/uploads/2023/12/20230724_143252530_iOS.jpg
END:VEVENT
BEGIN:VEVENT
DTSTART;TZID=UTC:20260731T150000
DTEND;TZID=UTC:20260731T160000
DTSTAMP:20260421T061208
CREATED:20240220T142356Z
LAST-MODIFIED:20260121T164648Z
UID:10000011-1785510000-1785513600@kinetikabloco.co.uk
SUMMARY:Junior Summer School Finale
DESCRIPTION:Our Junior Summer School will culminate in a finale performance for family and friends to enjoy. You’re invited to join us in celebrating the culmination of five days of creative learning with our younger members. Come and support your fantastic local young people\, all 100+ of them\,  as they share their creativity with you with a big ensemble performance of Brass\, Steel pans\, Dance and drums…carnival-style! \nVenue: Hitherfield Primary School \nTime: 3pm \nCost: FREE
URL:https://kinetikabloco.co.uk/event/junior-summer-school-finale/
LOCATION:Hitherfield Primary School\, Leigham vale Streatham\, London\, SW16 2JQ\, United Kingdom
ATTACH;FMTTYPE=image/jpeg:https://kinetikabloco.co.uk/wp-content/uploads/2024/02/20230728_152806990_iOS-scaled.jpg
END:VEVENT
BEGIN:VEVENT
DTSTART;TZID=UTC:20260814T190000
DTEND;TZID=UTC:20260814T200000
DTSTAMP:20260421T061208
CREATED:20240220T143315Z
LAST-MODIFIED:20260121T164342Z
UID:10000012-1786734000-1786737600@kinetikabloco.co.uk
SUMMARY:Senior Summer School Finale
DESCRIPTION:Join us for our favourite performance of the year\, the Summer School Finale. Come and share what 150 young people have created in 10 days on the Clore Ballroom of the Royal Festival Hall. You will be amazed and inspired by their talent and enthusiasm.
URL:https://kinetikabloco.co.uk/event/senior-summer-school-finale/
LOCATION:Southbank Centre\, Belvedere Road\, London\, SE1 8XX\, United Kingdom
ATTACH;FMTTYPE=image/jpeg:https://kinetikabloco.co.uk/wp-content/uploads/2024/02/DSC_4123-scaled.jpg
END:VEVENT
BEGIN:VEVENT
DTSTART;TZID=UTC:20260830T100000
DTEND;TZID=UTC:20260830T130000
DTSTAMP:20260421T061208
CREATED:20240220T134426Z
LAST-MODIFIED:20260121T161831Z
UID:10000009-1788084000-1788094800@kinetikabloco.co.uk
SUMMARY:Notting Hill Carnival
DESCRIPTION:Catch us straight after Summer School in all our glory at Notting Hill Carnival on Children’s Day. We will be bringing the sun out and at the very start of the parade going through judging point about 10am and finishing half way down Ladbroke Grove. Come down and party with us.
URL:https://kinetikabloco.co.uk/event/notting-hill-carnival/
LOCATION:Notting Hill\, Great Western Road\, Westbourne Green\, London\, W2 5UA\, United Kingdom
ATTACH;FMTTYPE=image/jpeg:https://kinetikabloco.co.uk/wp-content/uploads/2024/02/DSC_4625-scaled.jpeg
END:VEVENT
END:VCALENDAR