BEGIN:VCALENDAR
VERSION:2.0
PRODID:-//Youth Music Charity, London | Kinetika Bloco - ECPv6.15.20//NONSGML v1.0//EN
CALSCALE:GREGORIAN
METHOD:PUBLISH
X-WR-CALNAME:Youth Music Charity, London | Kinetika Bloco
X-ORIGINAL-URL:https://kinetikabloco.co.uk
X-WR-CALDESC:Events for Youth Music Charity, London | Kinetika Bloco
REFRESH-INTERVAL;VALUE=DURATION:PT1H
X-Robots-Tag:noindex
X-PUBLISHED-TTL:PT1H
BEGIN:VTIMEZONE
TZID:UTC
BEGIN:STANDARD
TZOFFSETFROM:+0000
TZOFFSETTO:+0000
TZNAME:UTC
DTSTART:20220101T000000
END:STANDARD
END:VTIMEZONE
BEGIN:VEVENT
DTSTART;TZID=UTC:20240607T193000
DTEND;TZID=UTC:20240607T213000
DTSTAMP:20260421T062227
CREATED:20240403T141622Z
LAST-MODIFIED:20240403T141622Z
UID:10000014-1717788600-1717795800@kinetikabloco.co.uk
SUMMARY:Foxy Fridays - for our alumni
DESCRIPTION:We are gathering our alumni together to celebrate Mat Fox’s legacy on the 10 year Anniversary since his passing. If you used to be in the Bloco don’t miss out on the chance to come back\, join your friends in drumsquad\, dance or brass and re-learn a Bloco Banger. Each evening will have drinks and all proceeds will go to our work with the current generation! \nSign up on the Join Us page to get all the details
URL:https://kinetikabloco.co.uk/event/foxy-fridays/2024-06-07/
LOCATION:Southbank Centre\, Belvedere Road\, London\, SE1 8XX\, United Kingdom
ATTACH;FMTTYPE=image/jpeg:https://kinetikabloco.co.uk/wp-content/uploads/2024/04/DSC_7111-scaled.jpeg
END:VEVENT
BEGIN:VEVENT
DTSTART;TZID=UTC:20240417T183000
DTEND;TZID=UTC:20240417T223000
DTSTAMP:20260421T062227
CREATED:20240220T140629Z
LAST-MODIFIED:20240220T140629Z
UID:10000010-1713378600-1713393000@kinetikabloco.co.uk
SUMMARY:Kinetika Bloco at Expertise Rocks
DESCRIPTION:Following in the footsteps of such events as Law Rocks\, Expertise Rocks takes place at 93 Feet East\, Shoreditch. Bands formed of experts in their various fields will battle it out again in April\, demonstrating their excellence on the stage to a panel of illustrious judges\, and a sell-out audience. \nWe are delighted that the event will once again be raising money for us and all proceeds will go towards funding Junior Summer School! We will also be performing a couple of numbers at the event so if you’d like to get yourself a ticket then please come down and support us.
URL:https://kinetikabloco.co.uk/event/kinetika-bloco-at-expertise-rocks/
LOCATION:93 Feet East\, 150 Brick Lane\, Shoreditch\,\, London\, E1 6QL\, United Kingdom
ATTACH;FMTTYPE=image/jpeg:https://kinetikabloco.co.uk/wp-content/uploads/2024/02/20240209_195023000_iOS-scaled.jpg
END:VEVENT
BEGIN:VEVENT
DTSTART;TZID=UTC:20240411T100000
DTEND;TZID=UTC:20240411T150000
DTSTAMP:20260421T062227
CREATED:20240403T142512Z
LAST-MODIFIED:20240403T142715Z
UID:10000018-1712829600-1712847600@kinetikabloco.co.uk
SUMMARY:CMA Easter Course
DESCRIPTION:We are running a drumming workshop with Sam Agard at the CMA Easter Course. Croydon Music and Arts will be hosting us on 11th April. The workshop is open for young people ages 11-18 and it will be a fun day of drumming. The course is organised by CMA so you need to register on their website. Cost for the day is £20 or £5 subsidised places.
URL:https://kinetikabloco.co.uk/event/cma-easter-course/
LOCATION:CMA\, Oasis Academy Shirley Park\, London\, CR9 7AL\, United Kingdom
ATTACH;FMTTYPE=image/jpeg:https://kinetikabloco.co.uk/wp-content/uploads/2024/04/Croydon-119-of-171-scaled.jpg
END:VEVENT
BEGIN:VEVENT
DTSTART;TZID=UTC:20240303T100000
DTEND;TZID=UTC:20240303T120000
DTSTAMP:20260421T062227
CREATED:20231214T131709Z
LAST-MODIFIED:20240124T122517Z
UID:10000003-1709460000-1709467200@kinetikabloco.co.uk
SUMMARY:Public workshop at LPO Funharmonics GOAL!
DESCRIPTION:We are delivering some drumming and dance workshops at the London Philharmonic Funharmonics event. Come and join us before the performance for a dance and drumming workshop. The workshops are drop in and free to access. Bring your friends and family along.
URL:https://kinetikabloco.co.uk/event/placeholder-event-1/
LOCATION:Southbank Centre\, Belvedere Road\, London\, SE1 8XX\, United Kingdom
ATTACH;FMTTYPE=image/jpeg:https://kinetikabloco.co.uk/wp-content/uploads/2023/12/IMG20230514113918-scaled.jpg
END:VEVENT
BEGIN:VEVENT
DTSTART;TZID=UTC:20240215T174500
DTEND;TZID=UTC:20240215T203000
DTSTAMP:20260421T062227
CREATED:20231214T132134Z
LAST-MODIFIED:20240124T124352Z
UID:10000006-1708019100-1708029000@kinetikabloco.co.uk
SUMMARY:Kinetika Bloco perform at Cultures of London celebration event
DESCRIPTION:A small Kinetika Bloco band will be perfomring at this event which is the celebration of a book called Cultures of London: Legacies of Migration. The book is authored by one of our Bloco Mums. It celebrates the origin as the Roman city of Londinium through to its latest incarnation as a super-diverse World City in the twenty-first century\, London’s history and culture has been shaped by migration. The Bloco will perform a couple of numbers at the event and if you want to come along and also find out more about the book then get yourself a ticket on the link below.
URL:https://kinetikabloco.co.uk/event/placeholder-event-4/
LOCATION:The Macmillan Hall\, Ground Floor\, Senate House\, Malet Street\, London\, WC1E 7HU\, United Kingdom
ATTACH;FMTTYPE=image/png:https://kinetikabloco.co.uk/wp-content/uploads/2023/12/CulturesOfLondon2024.png
END:VEVENT
BEGIN:VEVENT
DTSTART;TZID=UTC:20240209T190000
DTEND;TZID=UTC:20240209T223000
DTSTAMP:20260421T062227
CREATED:20231214T135052Z
LAST-MODIFIED:20240126T154525Z
UID:10000004-1707505200-1707517800@kinetikabloco.co.uk
SUMMARY:We Are Bloco: Pan Takeover
DESCRIPTION:Join us for a very special night of live music\, fundraising for a once in a lifetime trip to Cape Town! \nSouth African music has been a staple at Bloco since 2001\, with songs like ‘Homecoming’ and ‘African Marketplace’ becoming KB classics over the years. In 2015\, we were introduced to Little Giants\, a Cape Town based grassroots music organisation who work with young people. This connection resulted in some of the Little Giants crew coming to London to perform at the Roundhouse with us. Inspired by the collaboration\, we’ve been looking for an opportunity to work together again\, so were really excited when they invited us to perform at Cape Town Carnival with them. \nThis fundraiser will get Bloco one step closer to getting a group of 30 of us out there! \nHeadlining the show\, Bloco’s steelpan section will be taking over the night for an exclusive performance celebrating Trinidad & Tobago’s annual steelpan competition\, Panorama. Expect to hear sweet melodies\, contagious grooves and rhythms that will make you dance! \nAlso performing Where’s Rei? and DJ Mys Souljah \nPrizes to be won at our auction and raffle. \nUnder 18s must be accompanied by an adult.
URL:https://kinetikabloco.co.uk/event/placeholder-event-2/
LOCATION:LCCM\, 241\, Union Street\, London\, SE1 0LR\, United Kingdom
ATTACH;FMTTYPE=image/png:https://kinetikabloco.co.uk/wp-content/uploads/2023/12/WAB-PT-1x1-1.png
END:VEVENT
BEGIN:VEVENT
DTSTART;TZID=UTC:20231215T170000
DTEND;TZID=UTC:20231215T220000
DTSTAMP:20260421T062227
CREATED:20231213T150300Z
LAST-MODIFIED:20231214T134939Z
UID:10000002-1702659600-1702677600@kinetikabloco.co.uk
SUMMARY:Samba with Shay
DESCRIPTION:Join us for a Samba Session with Shay. You don’t need any experience\, just come along\, have some fun\, learn some rhythms and have a drink.
URL:https://kinetikabloco.co.uk/event/samba-with-shay/
LOCATION:Southbank Centre\, Belvedere Road\, London\, SE1 8XX\, United Kingdom
ATTACH;FMTTYPE=image/png:https://kinetikabloco.co.uk/wp-content/uploads/2023/12/SAMBA-WITH-SHAY-5.png
END:VEVENT
BEGIN:VEVENT
DTSTART;TZID=UTC:20231213T170000
DTEND;TZID=UTC:20231213T220000
DTSTAMP:20260421T062227
CREATED:20231213T145944Z
LAST-MODIFIED:20231213T150057Z
UID:10000001-1702486800-1702504800@kinetikabloco.co.uk
SUMMARY:Tulse Hill Bloco Christmas Performance
DESCRIPTION:Join us for our Christmas performance where we celebrate the hard work put in by the young people who attend our afterschool club. \nCost: \nIt’s FREE \nExtra information: \nThere is no need to sign up just turn up and join us!
URL:https://kinetikabloco.co.uk/event/tulse-hill-bloco-christmas-performance/
LOCATION:Jubilee Community Hall\, Tulse Hill Estate\, SW2 2LY\, SW2 2LY\, United Kingdom
END:VEVENT
END:VCALENDAR