BEGIN:VCALENDAR
VERSION:2.0
PRODID:-//Youth Music Charity, London | Kinetika Bloco - ECPv6.15.20//NONSGML v1.0//EN
CALSCALE:GREGORIAN
METHOD:PUBLISH
X-WR-CALNAME:Youth Music Charity, London | Kinetika Bloco
X-ORIGINAL-URL:https://kinetikabloco.co.uk
X-WR-CALDESC:Events for Youth Music Charity, London | Kinetika Bloco
REFRESH-INTERVAL;VALUE=DURATION:PT1H
X-Robots-Tag:noindex
X-PUBLISHED-TTL:PT1H
BEGIN:VTIMEZONE
TZID:UTC
BEGIN:STANDARD
TZOFFSETFROM:+0000
TZOFFSETTO:+0000
TZNAME:UTC
DTSTART:20220101T000000
END:STANDARD
END:VTIMEZONE
BEGIN:VEVENT
DTSTART;TZID=UTC:20231215T170000
DTEND;TZID=UTC:20231215T220000
DTSTAMP:20260421T020938
CREATED:20231213T150300Z
LAST-MODIFIED:20231214T134939Z
UID:10000002-1702659600-1702677600@kinetikabloco.co.uk
SUMMARY:Samba with Shay
DESCRIPTION:Join us for a Samba Session with Shay. You don’t need any experience\, just come along\, have some fun\, learn some rhythms and have a drink.
URL:https://kinetikabloco.co.uk/event/samba-with-shay/
LOCATION:Southbank Centre\, Belvedere Road\, London\, SE1 8XX\, United Kingdom
ATTACH;FMTTYPE=image/png:https://kinetikabloco.co.uk/wp-content/uploads/2023/12/SAMBA-WITH-SHAY-5.png
END:VEVENT
BEGIN:VEVENT
DTSTART;TZID=UTC:20231213T170000
DTEND;TZID=UTC:20231213T220000
DTSTAMP:20260421T020938
CREATED:20231213T145944Z
LAST-MODIFIED:20231213T150057Z
UID:10000001-1702486800-1702504800@kinetikabloco.co.uk
SUMMARY:Tulse Hill Bloco Christmas Performance
DESCRIPTION:Join us for our Christmas performance where we celebrate the hard work put in by the young people who attend our afterschool club. \nCost: \nIt’s FREE \nExtra information: \nThere is no need to sign up just turn up and join us!
URL:https://kinetikabloco.co.uk/event/tulse-hill-bloco-christmas-performance/
LOCATION:Jubilee Community Hall\, Tulse Hill Estate\, SW2 2LY\, SW2 2LY\, United Kingdom
END:VEVENT
END:VCALENDAR