BEGIN:VCALENDAR
VERSION:2.0
PRODID:-//Youth Music Charity, London | Kinetika Bloco - ECPv6.15.20//NONSGML v1.0//EN
CALSCALE:GREGORIAN
METHOD:PUBLISH
X-WR-CALNAME:Youth Music Charity, London | Kinetika Bloco
X-ORIGINAL-URL:https://kinetikabloco.co.uk
X-WR-CALDESC:Events for Youth Music Charity, London | Kinetika Bloco
REFRESH-INTERVAL;VALUE=DURATION:PT1H
X-Robots-Tag:noindex
X-PUBLISHED-TTL:PT1H
BEGIN:VTIMEZONE
TZID:UTC
BEGIN:STANDARD
TZOFFSETFROM:+0000
TZOFFSETTO:+0000
TZNAME:UTC
DTSTART:20230101T000000
END:STANDARD
END:VTIMEZONE
BEGIN:VEVENT
DTSTART;TZID=UTC:20240706T124000
DTEND;TZID=UTC:20240706T144000
DTSTAMP:20260421T204959
CREATED:20231214T132103Z
LAST-MODIFIED:20240626T151627Z
UID:10000005-1720269600-1720276800@kinetikabloco.co.uk
SUMMARY:Happy Streets Festival
DESCRIPTION:Wandsworth Bloco will be performing at the Happy Streets Festival! It’s a one-day fantastic\, free and fun festival for all the family across various venues around Nine Elms including live music\, circus\, crafts and activities\, pizza-making and outdoor live performances. We’re super excited! Catch us at 12:40 and 2:40 pm on no other than\, the main stage. \nFind out more about Happy Streets festival here – HAPPY STREETS FESTIVAL
URL:https://kinetikabloco.co.uk/event/happy-streets-festival/
LOCATION:St. George’s Primary School\, Corunna Road\, London\, SW8 4JS
ATTACH;FMTTYPE=image/jpeg:https://kinetikabloco.co.uk/wp-content/uploads/2023/12/IMG20230514113918-scaled.jpg
END:VEVENT
BEGIN:VEVENT
DTSTART;TZID=UTC:20240720T123000
DTEND;TZID=UTC:20240720T133000
DTSTAMP:20260421T204959
CREATED:20240624T150229Z
LAST-MODIFIED:20240624T150229Z
UID:10000021-1721478600-1721482200@kinetikabloco.co.uk
SUMMARY:Kinetika Bloco parade at Lincoln Jazz Festival
DESCRIPTION:Join us in Lincoln as we create a parade with Kinetika Bloco and children from some local schools to perform in the Lincoln Jazz Festival. The parade will be a free event as part of the festival and you’ll catch us in the grounds of the Cathedral. \nYou do not need to book tickets for this event.
URL:https://kinetikabloco.co.uk/event/kinetika-bloco-parade-at-lincoln-jazz-festival/
LOCATION:Lincoln Cathedral\, Minster Yard\, Lincoln\, LN2 1PX\, United Kingdom
ATTACH;FMTTYPE=image/jpeg:https://kinetikabloco.co.uk/wp-content/uploads/2024/06/20240621_164312471_iOS-scaled.jpg
END:VEVENT
BEGIN:VEVENT
DTSTART;TZID=UTC:20240720T140000
DTEND;TZID=UTC:20240720T153000
DTSTAMP:20260421T204959
CREATED:20240624T151105Z
LAST-MODIFIED:20240624T151105Z
UID:10000022-1721484000-1721489400@kinetikabloco.co.uk
SUMMARY:Legacy band at Lincoln Jazz Festival
DESCRIPTION:We are taking the Legacy Band up to Lincoln with us and they will be performing in the Lincoln Jazz festival as well. They are in the Chapter House sharing some of the tracks from the album with some of the alumni and some of our current members sitting in for those who are missing. \nYou have to book tickets for this event
URL:https://kinetikabloco.co.uk/event/legacy-band-at-lincoln-jazz-festival/
LOCATION:Lincoln Cathedral\, Minster Yard\, Lincoln\, LN2 1PX\, United Kingdom
ATTACH;FMTTYPE=image/jpeg:https://kinetikabloco.co.uk/wp-content/uploads/2024/06/DSC_9695-tighter-scaled.jpg
END:VEVENT
END:VCALENDAR